BEGIN:VCALENDAR
VERSION:2.0
PRODID:-//Virtue Church - ECPv5.8.1//NONSGML v1.0//EN
CALSCALE:GREGORIAN
METHOD:PUBLISH
X-WR-CALNAME:Virtue Church
X-ORIGINAL-URL:http://vccaz.com
X-WR-CALDESC:Events for Virtue Church
BEGIN:VTIMEZONE
TZID:UTC
BEGIN:STANDARD
TZOFFSETFROM:+0000
TZOFFSETTO:+0000
TZNAME:UTC
DTSTART:20180101T000000
END:STANDARD
END:VTIMEZONE
BEGIN:VEVENT
DTSTART;TZID=UTC:20180504T190000
DTEND;TZID=UTC:20180504T200000
DTSTAMP:20260426T034815
CREATED:20180219T042837Z
LAST-MODIFIED:20180504T060858Z
UID:575-1525460400-1525464000@vccaz.com
SUMMARY:PAGA Leadership Training Series
DESCRIPTION:.PAGA is a Hebrew word meaning to strike the mark in making contact with God.  It differentiates prayer (talking to God) and intercession (making contact which leads to God communicating with us.  \nJoin Dr. Charles Johnson of Victory Community Church Arizona for this exclusive development series designed to help leaders “Hit The Mark.” \n$150.00 Monthly
URL:http://vccaz.com/event/paga-leadership-training-series/
LOCATION:Facebook Live – VCCAZ Members Only
CATEGORIES:Bible Study
ATTACH;FMTTYPE=image/png:http://vccaz.com/wp-content/uploads/2018/02/paga-logo-revised.png
END:VEVENT
END:VCALENDAR